BEGIN:VCALENDAR
VERSION:2.0
PRODID:-//hacksw/handcal//NONSGML v1.0//EN
BEGIN:VEVENT
SUMMARY:SAINT MARTIN EN HAUT
UID:85ff65cf-e290-49f4-b4c9-c2463d886ada
DTSTART:20260524T220000Z
DTEND:20260525T220000Z
LOCATION:Localisation   
CATEGORIES:Sportif
STATUS:
DESCRIPTION:<p><strong>Responsable : Jean Marc 
 FR</strong></p>
 
 <p><strong>Accompagnateurs : Patrick  DE  , 
 Beatrice  DE  ,  Helene  OD</strong></p>
 
 <p><strong>RDV :   
  Merlo  13 h</strong></p>
 
 <p><strong>5 km / D 180 
 m</strong></p>
 
 <p><b>Voiture : 13  €</b></p>
URL;VALUE=URI:https://www.cascol-rando.fr/evenements/2026/05/25/saint-martin-en-haut-2419855
END:VEVENT
END:VCALENDAR
