BEGIN:VCALENDAR
VERSION:2.0
PRODID:-//hacksw/handcal//NONSGML v1.0//EN
BEGIN:VEVENT
SUMMARY:RANDO  PATRIMOINE SAINTE  CONSORCE
UID:99ac2f33-8013-4453-af8c-dd210641e676
DTSTART:20260520T220000Z
DTEND:20260521T220000Z
LOCATION:Localisation   
CATEGORIES:Sportif
STATUS:
DESCRIPTION:<p> </p>
 
 <p><strong>RDV :    Merlo a
 08h00</strong></p>
 
 <p><strong> 6 km  / 12  km  / 17 
 km</strong></p>
 
 <p><strong>Visite  musee  Antoine 
 Brun</strong></p>
 
 <p><strong>Mail aux adherents
 envoye</strong></p>
 
 <p><strong>Bulletin d'inscription <a
 href="https://admin.sportsregions.fr/media/uploaded/sites/20415/kcupload/files/Flyer.pdf"
 target="_blank" rel="noreferrer noopener">telechargeable
 ICI</a></strong></p>
URL;VALUE=URI:https://www.cascol-rando.fr/evenements/2026/05/21/rando-patrimoine-sainte-consorce-2420502
END:VEVENT
END:VCALENDAR
