BEGIN:VCALENDAR
VERSION:2.0
PRODID:-//hacksw/handcal//NONSGML v1.0//EN
BEGIN:VEVENT
SUMMARY:VILLIE  MORGON
UID:f2299abd-210a-46e9-8ac5-51da90aed5f6
DTSTART:20260518T220000Z
DTEND:20260519T220000Z
LOCATION:Localisation   
CATEGORIES:Sportif
STATUS:
DESCRIPTION:<p><strong>Responsable : Christian 
  CO</strong></p>
 
 <p><strong>RDV :    07  h 
  Arkema</strong></p>
 
 <p><strong> 21  km / D  630 
 m</strong></p>
 
 <p><b>Voiture :  45  €</b></p>
URL;VALUE=URI:https://www.cascol-rando.fr/evenements/2026/05/19/villie-morgon-2420500
END:VEVENT
END:VCALENDAR
