BEGIN:VCALENDAR
VERSION:2.0
PRODID:-//hacksw/handcal//NONSGML v1.0//EN
BEGIN:VEVENT
SUMMARY:RANDO ORIENTATION
UID:c3cd90e1-9b79-4e50-ae2f-70639db1a105
DTSTART:20260517T220000Z
DTEND:20260518T220000Z
LOCATION:Localisation   
CATEGORIES:Sportif
STATUS:
DESCRIPTION:<p><strong>Responsable
 : </strong></p>
 
 <p><strong>Accompagnateurs
 : </strong></p>
 
 <p><strong>RDV :     Merlo  11
 h</strong></p>
 
 <p><strong> km / D  m</strong></p>
 
 <p><b>Voiture
 :  €</b></p>
URL;VALUE=URI:https://www.cascol-rando.fr/evenements/2026/05/18/rando-orientation-2419854
END:VEVENT
END:VCALENDAR
