BEGIN:VCALENDAR
VERSION:2.0
PRODID:-//hacksw/handcal//NONSGML v1.0//EN
BEGIN:VEVENT
SUMMARY:SAINT  MARCEL  L  ECLAIRE
UID:2d9362b3-a133-47ae-a882-89d876be0c7d
DTSTART:20260511T220000Z
DTEND:20260512T220000Z
LOCATION:Localisation   
CATEGORIES:Sportif
STATUS:
DESCRIPTION:<p><strong>Responsable : Christine 
  GE</strong></p>
 
 <p><strong>RDV :   07  h  15 
  Arkema </strong></p>
 
 <p><strong> 18  km / D  700
 m</strong></p>
 
 <p><b>Voiture : 31  €</b></p>
URL;VALUE=URI:https://www.cascol-rando.fr/evenements/2026/05/12/saint-marcel-l-eclaire-2420499
END:VEVENT
END:VCALENDAR
