BEGIN:VCALENDAR
VERSION:2.0
PRODID:-//hacksw/handcal//NONSGML v1.0//EN
BEGIN:VEVENT
SUMMARY:CHATELUS (42 )
UID:279c3a50-cfab-4119-a4e8-bafd9f538184
DTSTART:20260415T220000Z
DTEND:20260416T220000Z
LOCATION:Localisation   
CATEGORIES:Sportif
STATUS:
DESCRIPTION:<p><strong>Responsable : Vincent
 CO</strong></p>
 
 <p><strong>RDV :  08 h 
  Merlo  </strong></p>
 
 <p><strong> 14  km / D  510 
 m</strong></p>
 
 <p><b>Voiture : 22  €</b></p>
URL;VALUE=URI:https://www.cascol-rando.fr/evenements/2026/04/16/chatelus-42-2420491
END:VEVENT
END:VCALENDAR
