BEGIN:VCALENDAR
VERSION:2.0
PRODID:-//hacksw/handcal//NONSGML v1.0//EN
BEGIN:VEVENT
SUMMARY:SAINT  LAURENT  DE  VAUX (Annulee Meteo)
UID:362764f8-945e-4671-af22-3196abdc260a
DTSTART:20260412T220000Z
DTEND:20260413T220000Z
LOCATION:Localisation   
CATEGORIES:Sportif
STATUS:
DESCRIPTION:<p><strong>Responsable : Jean Marc 
 RO</strong></p>
 
 <p><strong>Accompagnateurs : Josiane  JA  , 
 Dominique  GA  ,  Renee  SA</strong></p>
 
 <p><strong>RDV :   
  Merlo  13 h</strong></p>
 
 <p><strong>6,5 km / D 200
 m</strong></p>
 
 <p><b>Voiture : 12 €</b></p>
URL;VALUE=URI:https://www.cascol-rando.fr/evenements/2026/04/13/saint-laurent-de-vaux-annulee-meteo-2419848
END:VEVENT
END:VCALENDAR
