BEGIN:VCALENDAR
VERSION:2.0
PRODID:-//hacksw/handcal//NONSGML v1.0//EN
BEGIN:VEVENT
SUMMARY:SAINT MAURICE SUR DARGOIRE
UID:fd632273-2f0b-46fb-91c9-6395f552d550
DTSTART:20260408T220000Z
DTEND:20260409T220000Z
LOCATION:Localisation   
CATEGORIES:Sportif
STATUS:
DESCRIPTION:<p><strong>Responsable : Christine
 BR</strong></p>
 
 <p><strong>RDV :   08 h 30 
 Merlo </strong></p>
 
 <p><strong>13   km / D 419 
  m</strong></p>
 
 <p><b>Voiture : 14  €</b></p>
URL;VALUE=URI:https://www.cascol-rando.fr/evenements/2026/04/09/saint-maurice-sur-dargoire-2420487
END:VEVENT
END:VCALENDAR
