BEGIN:VCALENDAR
VERSION:2.0
PRODID:-//hacksw/handcal//NONSGML v1.0//EN
BEGIN:VEVENT
SUMMARY:GREZOLLE
UID:6a14db0b-43bf-46c8-9305-2a838b46b93a
DTSTART:20260406T220000Z
DTEND:20260407T220000Z
LOCATION:Localisation   
CATEGORIES:Sportif
STATUS:
DESCRIPTION:<p><strong>Responsable : Pascal 
 BE</strong></p>
 
 <p><strong>RDV :    07 h 
 Arkema</strong></p>
 
 <p><strong> 21,4  km / D 471   
 m</strong></p>
 
 <p><b>Voiture : 70  €</b></p>
URL;VALUE=URI:https://www.cascol-rando.fr/evenements/2026/04/07/grezolle-2420489
END:VEVENT
END:VCALENDAR
