BEGIN:VCALENDAR
VERSION:2.0
PRODID:-//hacksw/handcal//NONSGML v1.0//EN
BEGIN:VEVENT
SUMMARY:LE  BESSAT (Annulee meteo)
UID:a06d514a-f8a4-4663-b964-2485049d1e6b
DTSTART:20260330T220000Z
DTEND:20260331T220000Z
LOCATION:Localisation   
CATEGORIES:Sportif
STATUS:
DESCRIPTION:<p><strong>Responsable : Alain 
 DE</strong></p>
 
 <p><strong>RDV :   Merlo  07
 h  </strong></p>
 
 <p><strong>16 km / D 570
 m</strong></p>
 
 <p><b>Voiture : 34 €</b></p>
URL;VALUE=URI:https://www.cascol-rando.fr/evenements/2026/03/31/le-bessat-annulee-meteo-2365165
END:VEVENT
END:VCALENDAR
